BEGIN:VCALENDAR
VERSION:2.0
PRODID:-//Green Valley Floyd - ECPv6.0.13.1//NONSGML v1.0//EN
CALSCALE:GREGORIAN
METHOD:PUBLISH
X-ORIGINAL-URL:https://greenvalleyfloyd.com
X-WR-CALDESC:Events for Green Valley Floyd
REFRESH-INTERVAL;VALUE=DURATION:PT1H
X-Robots-Tag:noindex
X-PUBLISHED-TTL:PT1H
BEGIN:VTIMEZONE
TZID:America/Chicago
BEGIN:DAYLIGHT
TZOFFSETFROM:-0600
TZOFFSETTO:-0500
TZNAME:CDT
DTSTART:20210314T080000
END:DAYLIGHT
BEGIN:STANDARD
TZOFFSETFROM:-0500
TZOFFSETTO:-0600
TZNAME:CST
DTSTART:20211107T070000
END:STANDARD
BEGIN:DAYLIGHT
TZOFFSETFROM:-0600
TZOFFSETTO:-0500
TZNAME:CDT
DTSTART:20220313T080000
END:DAYLIGHT
BEGIN:STANDARD
TZOFFSETFROM:-0500
TZOFFSETTO:-0600
TZNAME:CST
DTSTART:20221106T070000
END:STANDARD
BEGIN:DAYLIGHT
TZOFFSETFROM:-0600
TZOFFSETTO:-0500
TZNAME:CDT
DTSTART:20230312T080000
END:DAYLIGHT
BEGIN:STANDARD
TZOFFSETFROM:-0500
TZOFFSETTO:-0600
TZNAME:CST
DTSTART:20231105T070000
END:STANDARD
BEGIN:DAYLIGHT
TZOFFSETFROM:-0600
TZOFFSETTO:-0500
TZNAME:CDT
DTSTART:20240310T080000
END:DAYLIGHT
BEGIN:STANDARD
TZOFFSETFROM:-0500
TZOFFSETTO:-0600
TZNAME:CST
DTSTART:20241103T070000
END:STANDARD
BEGIN:DAYLIGHT
TZOFFSETFROM:-0600
TZOFFSETTO:-0500
TZNAME:CDT
DTSTART:20250309T080000
END:DAYLIGHT
BEGIN:STANDARD
TZOFFSETFROM:-0500
TZOFFSETTO:-0600
TZNAME:CST
DTSTART:20251102T070000
END:STANDARD
TZID:UTC
BEGIN:STANDARD
TZOFFSETFROM:+0000
TZOFFSETTO:+0000
TZNAME:UTC
DTSTART:20250101T000000
END:STANDARD
END:VTIMEZONE
BEGIN:VEVENT
DTSTART;TZID=America/Chicago:20250626T080000
DTEND;TZID=America/Chicago:20250626T150000
DTSTAMP:20260419T083737
CREATED:20250502T161948Z
LAST-MODIFIED:20250502T161950Z
UID:1777-1750924800-1750950000@greenvalleyfloyd.com
SUMMARY:Home Builders Association
DESCRIPTION:9:00 Shotgun Start
URL:https://greenvalleyfloyd.com/event/home-builders-association/
CATEGORIES:Green Valley
END:VEVENT
BEGIN:VEVENT
DTSTART;VALUE=DATE:20250621
DTEND;VALUE=DATE:20250623
DTSTAMP:20260419T083737
CREATED:20210410T020337Z
LAST-MODIFIED:20241218T174250Z
UID:605-1750464000-1750636799@greenvalleyfloyd.com
SUMMARY:The 2025 Green Valley Club Championship
DESCRIPTION:T-Times begin at 8:00 both days \nCody Selig 2024 Champion \nJohn Stibbs 2024 Senior Club Champion
URL:https://greenvalleyfloyd.com/event/the-2021-green-valley-club-championship/
CATEGORIES:Green Valley
END:VEVENT
BEGIN:VEVENT
DTSTART;TZID=UTC:20250615T090000
DTEND;TZID=UTC:20250615T143000
DTSTAMP:20260419T083737
CREATED:20210410T020354Z
LAST-MODIFIED:20241029T152041Z
UID:607-1749978000-1749997800@greenvalleyfloyd.com
SUMMARY:23rd Annual Father – Child
DESCRIPTION:June 15\, 2025 \n9:00 Shotgun
URL:https://greenvalleyfloyd.com/event/19th-annual-father-child/
CATEGORIES:Green Valley
END:VEVENT
BEGIN:VEVENT
DTSTART;TZID=America/Chicago:20250610T080000
DTEND;TZID=America/Chicago:20250610T150000
DTSTAMP:20260419T083737
CREATED:20211220T183515Z
LAST-MODIFIED:20250217T202955Z
UID:966-1749542400-1749567600@greenvalleyfloyd.com
SUMMARY:Local #7 Firefighters Outing
DESCRIPTION:9:00 AM Shotgun
URL:https://greenvalleyfloyd.com/event/local-7-firefighters-outing/
CATEGORIES:Green Valley
END:VEVENT
BEGIN:VEVENT
DTSTART;VALUE=DATE:20250516
DTEND;VALUE=DATE:20250519
DTSTAMP:20260419T083737
CREATED:20210410T020316Z
LAST-MODIFIED:20241122T230038Z
UID:603-1747353600-1747612799@greenvalleyfloyd.com
SUMMARY:The 2025 Tri-State Masters
DESCRIPTION:May 16\, 17\, 18\nMay 16 @ Landmand  (Nebraska)\nMay 17 @ The Bluffs  (South Dakota)\nMay 19 @ Green Valley  (Iowa) \nJason Vander Kooi  2024 Champion
URL:https://greenvalleyfloyd.com/event/the-2021-tri-state-masters/
CATEGORIES:Green Valley
END:VEVENT
BEGIN:VEVENT
DTSTART;TZID=UTC:20250426T090000
DTEND;TZID=UTC:20250427T180000
DTSTAMP:20260419T083737
CREATED:20210410T020126Z
LAST-MODIFIED:20241029T152349Z
UID:599-1745658000-1745776800@greenvalleyfloyd.com
SUMMARY:The 2025 Honker Classic
DESCRIPTION:2 Man Scramble \nTee times begin at 9:00 \n 
URL:https://greenvalleyfloyd.com/event/the-2021-honker-classic/
CATEGORIES:Green Valley
END:VEVENT
BEGIN:VEVENT
DTSTART;VALUE=DATE:20250412
DTEND;VALUE=DATE:20250413
DTSTAMP:20260419T083737
CREATED:20210410T020042Z
LAST-MODIFIED:20241029T152645Z
UID:597-1744416000-1744502399@greenvalleyfloyd.com
SUMMARY:2025 SPRING THAW  1- MAN SCRAMBLE
DESCRIPTION:Tee Times begin at 9:00
URL:https://greenvalleyfloyd.com/event/green-valley-spring-thaw-1-man-scramble/
CATEGORIES:Green Valley
END:VEVENT
BEGIN:VEVENT
DTSTART;TZID=America/Chicago:20241007T090000
DTEND;TZID=America/Chicago:20241007T170000
DTSTAMP:20260419T083737
CREATED:20240309T161820Z
LAST-MODIFIED:20240309T161824Z
UID:1462-1728291600-1728320400@greenvalleyfloyd.com
SUMMARY:Sioux City Police Association
DESCRIPTION:10:00 Shotgun Start \nPaul Yaneff 712-253-9882
URL:https://greenvalleyfloyd.com/event/sioux-city-police-association/
CATEGORIES:Green Valley
END:VEVENT
BEGIN:VEVENT
DTSTART;TZID=America/Chicago:20240624T120000
DTEND;TZID=America/Chicago:20240624T180000
DTSTAMP:20260419T083737
CREATED:20230523T195110Z
LAST-MODIFIED:20231223T180513Z
UID:1278-1719230400-1719252000@greenvalleyfloyd.com
SUMMARY:Sioux City Chamber Outing - 2024
DESCRIPTION:12:00 Shotgun Start
URL:https://greenvalleyfloyd.com/event/sioux-city-chamber-outing-2023/
CATEGORIES:Green Valley
END:VEVENT
BEGIN:VEVENT
DTSTART;TZID=America/Chicago:20230512T120000
DTEND;TZID=America/Chicago:20230512T180000
DTSTAMP:20260419T083737
CREATED:20211220T183346Z
LAST-MODIFIED:20230507T141748Z
UID:964-1683892800-1683914400@greenvalleyfloyd.com
SUMMARY:Siouxland Mental Health Outing
DESCRIPTION:12:30 Shotgun
URL:https://greenvalleyfloyd.com/event/siouxland-mental-health-outing/
CATEGORIES:Green Valley
END:VEVENT
BEGIN:VEVENT
DTSTART;TZID=America/Chicago:20210722T080000
DTEND;TZID=America/Chicago:20210722T170000
DTSTAMP:20260419T083737
CREATED:20210713T183732Z
LAST-MODIFIED:20210713T183741Z
UID:866-1626940800-1626973200@greenvalleyfloyd.com
SUMMARY:Sioux City Construction League Outing
DESCRIPTION:9:00 AM Shotgun
URL:https://greenvalleyfloyd.com/event/sioux-city-construction-league-outing/
CATEGORIES:Green Valley
END:VEVENT
END:VCALENDAR