BEGIN:VCALENDAR
VERSION:2.0
PRODID:-//Green Valley Floyd - ECPv6.0.13.1//NONSGML v1.0//EN
CALSCALE:GREGORIAN
METHOD:PUBLISH
X-ORIGINAL-URL:https://greenvalleyfloyd.com
X-WR-CALDESC:Events for Green Valley Floyd
REFRESH-INTERVAL;VALUE=DURATION:PT1H
X-Robots-Tag:noindex
X-PUBLISHED-TTL:PT1H
BEGIN:VTIMEZONE
TZID:UTC
BEGIN:STANDARD
TZOFFSETFROM:+0000
TZOFFSETTO:+0000
TZNAME:UTC
DTSTART:20260101T000000
END:STANDARD
END:VTIMEZONE
BEGIN:VEVENT
DTSTART;TZID=UTC:20260425T090000
DTEND;TZID=UTC:20260425T150000
DTSTAMP:20260419T095031
CREATED:20210410T020201Z
LAST-MODIFIED:20260302T220959Z
UID:601-1777107600-1777129200@greenvalleyfloyd.com
SUMMARY:2026 Taylormade Trackman Day
DESCRIPTION:9:00 – 3:00 (Must make an Appointment)  15% Off All Purchases This Day! \nCall 252-2025 to sign up for an appointment
URL:https://greenvalleyfloyd.com/event/taylormade-launch-monitor-day-april-24-rain-date-is-may-8/
CATEGORIES:Green Valley
END:VEVENT
END:VCALENDAR