BEGIN:VCALENDAR
VERSION:2.0
PRODID:-//Green Valley Floyd - ECPv6.0.13.1//NONSGML v1.0//EN
CALSCALE:GREGORIAN
METHOD:PUBLISH
X-WR-CALNAME:Green Valley Floyd
X-ORIGINAL-URL:https://greenvalleyfloyd.com
X-WR-CALDESC:Events for Green Valley Floyd
REFRESH-INTERVAL;VALUE=DURATION:PT1H
X-Robots-Tag:noindex
X-PUBLISHED-TTL:PT1H
BEGIN:VTIMEZONE
TZID:America/Chicago
BEGIN:DAYLIGHT
TZOFFSETFROM:-0600
TZOFFSETTO:-0500
TZNAME:CDT
DTSTART:20260308T080000
END:DAYLIGHT
BEGIN:STANDARD
TZOFFSETFROM:-0500
TZOFFSETTO:-0600
TZNAME:CST
DTSTART:20261101T070000
END:STANDARD
END:VTIMEZONE
BEGIN:VEVENT
DTSTART;TZID=America/Chicago:20260626T080000
DTEND;TZID=America/Chicago:20260626T170000
DTSTAMP:20260419T152228
CREATED:20260303T174645Z
LAST-MODIFIED:20260303T174649Z
UID:1967-1782460800-1782493200@greenvalleyfloyd.com
SUMMARY:Rasmussen Mechanical Services
DESCRIPTION:8:30 AM Shotgun Start
URL:https://greenvalleyfloyd.com/event/rasmussen-mechanical-services/
CATEGORIES:Green Valley
END:VEVENT
END:VCALENDAR