BEGIN:VCALENDAR
VERSION:2.0
PRODID:-//Green Valley Floyd - ECPv6.0.13.1//NONSGML v1.0//EN
CALSCALE:GREGORIAN
METHOD:PUBLISH
X-WR-CALNAME:Green Valley Floyd
X-ORIGINAL-URL:https://greenvalleyfloyd.com
X-WR-CALDESC:Events for Green Valley Floyd
REFRESH-INTERVAL;VALUE=DURATION:PT1H
X-Robots-Tag:noindex
X-PUBLISHED-TTL:PT1H
BEGIN:VTIMEZONE
TZID:America/Chicago
BEGIN:DAYLIGHT
TZOFFSETFROM:-0600
TZOFFSETTO:-0500
TZNAME:CDT
DTSTART:20260308T080000
END:DAYLIGHT
BEGIN:STANDARD
TZOFFSETFROM:-0500
TZOFFSETTO:-0600
TZNAME:CST
DTSTART:20261101T070000
END:STANDARD
END:VTIMEZONE
BEGIN:VEVENT
DTSTART;TZID=America/Chicago:20260529T120000
DTEND;TZID=America/Chicago:20260529T190000
DTSTAMP:20260419T133538
CREATED:20211129T171647Z
LAST-MODIFIED:20250923T200900Z
UID:906-1780056000-1780081200@greenvalleyfloyd.com
SUMMARY:S.B.L. Golf Program Outing
DESCRIPTION:1:00 Shotgun Start \nContact Paul Wilson at SBL High School
URL:https://greenvalleyfloyd.com/event/s-b-l-golf-program-outing/
CATEGORIES:Green Valley
END:VEVENT
END:VCALENDAR