BEGIN:VCALENDAR
VERSION:2.0
PRODID:-//Green Valley Floyd - ECPv6.0.13.1//NONSGML v1.0//EN
CALSCALE:GREGORIAN
METHOD:PUBLISH
X-ORIGINAL-URL:https://greenvalleyfloyd.com
X-WR-CALDESC:Events for Green Valley Floyd
REFRESH-INTERVAL;VALUE=DURATION:PT1H
X-Robots-Tag:noindex
X-PUBLISHED-TTL:PT1H
BEGIN:VTIMEZONE
TZID:America/Chicago
BEGIN:DAYLIGHT
TZOFFSETFROM:-0600
TZOFFSETTO:-0500
TZNAME:CDT
DTSTART:20250309T080000
END:DAYLIGHT
BEGIN:STANDARD
TZOFFSETFROM:-0500
TZOFFSETTO:-0600
TZNAME:CST
DTSTART:20251102T070000
END:STANDARD
END:VTIMEZONE
BEGIN:VEVENT
DTSTART;TZID=America/Chicago:20251017T090000
DTEND;TZID=America/Chicago:20251017T170000
DTSTAMP:20260419T224609
CREATED:20230822T100010Z
LAST-MODIFIED:20251003T192350Z
UID:1334-1760691600-1760720400@greenvalleyfloyd.com
SUMMARY:Mid American For United Way
DESCRIPTION:10:00 AM Shotgun Start
URL:https://greenvalleyfloyd.com/event/mid-american-energy-outing/
CATEGORIES:Green Valley
END:VEVENT
END:VCALENDAR