BEGIN:VCALENDAR
VERSION:2.0
PRODID:-//Green Valley Floyd - ECPv6.0.13.1//NONSGML v1.0//EN
CALSCALE:GREGORIAN
METHOD:PUBLISH
X-ORIGINAL-URL:https://greenvalleyfloyd.com
X-WR-CALDESC:Events for Green Valley Floyd
REFRESH-INTERVAL;VALUE=DURATION:PT1H
X-Robots-Tag:noindex
X-PUBLISHED-TTL:PT1H
BEGIN:VTIMEZONE
TZID:America/Chicago
BEGIN:DAYLIGHT
TZOFFSETFROM:-0600
TZOFFSETTO:-0500
TZNAME:CDT
DTSTART:20250309T080000
END:DAYLIGHT
BEGIN:STANDARD
TZOFFSETFROM:-0500
TZOFFSETTO:-0600
TZNAME:CST
DTSTART:20251102T070000
END:STANDARD
END:VTIMEZONE
BEGIN:VEVENT
DTSTART;TZID=America/Chicago:20251005T100000
DTEND;TZID=America/Chicago:20251005T170000
DTSTAMP:20260419T224718
CREATED:20210409T211023Z
LAST-MODIFIED:20241029T150754Z
UID:620-1759658400-1759683600@greenvalleyfloyd.com
SUMMARY:The 2025 Coors Light Winds of War
DESCRIPTION:5 Man Scramble\nSunday October 5 – 10:00 AM Shotgun
URL:https://greenvalleyfloyd.com/event/the-2021-coors-light-winds-of-war/
CATEGORIES:Green Valley
END:VEVENT
END:VCALENDAR