BEGIN:VCALENDAR
VERSION:2.0
PRODID:-//Green Valley Floyd - ECPv6.0.13.1//NONSGML v1.0//EN
CALSCALE:GREGORIAN
METHOD:PUBLISH
X-ORIGINAL-URL:https://greenvalleyfloyd.com
X-WR-CALDESC:Events for Green Valley Floyd
REFRESH-INTERVAL;VALUE=DURATION:PT1H
X-Robots-Tag:noindex
X-PUBLISHED-TTL:PT1H
BEGIN:VTIMEZONE
TZID:UTC
BEGIN:STANDARD
TZOFFSETFROM:+0000
TZOFFSETTO:+0000
TZNAME:UTC
DTSTART:20250101T000000
END:STANDARD
END:VTIMEZONE
BEGIN:VEVENT
DTSTART;VALUE=DATE:20250516
DTEND;VALUE=DATE:20250519
DTSTAMP:20260420T073635
CREATED:20210410T020316Z
LAST-MODIFIED:20241122T230038Z
UID:603-1747353600-1747612799@greenvalleyfloyd.com
SUMMARY:The 2025 Tri-State Masters
DESCRIPTION:May 16\, 17\, 18\nMay 16 @ Landmand  (Nebraska)\nMay 17 @ The Bluffs  (South Dakota)\nMay 19 @ Green Valley  (Iowa) \nJason Vander Kooi  2024 Champion
URL:https://greenvalleyfloyd.com/event/the-2021-tri-state-masters/
CATEGORIES:Green Valley
END:VEVENT
END:VCALENDAR