BEGIN:VCALENDAR
VERSION:2.0
PRODID:-//Green Valley Floyd - ECPv6.0.13.1//NONSGML v1.0//EN
CALSCALE:GREGORIAN
METHOD:PUBLISH
X-ORIGINAL-URL:https://greenvalleyfloyd.com
X-WR-CALDESC:Events for Green Valley Floyd
REFRESH-INTERVAL;VALUE=DURATION:PT1H
X-Robots-Tag:noindex
X-PUBLISHED-TTL:PT1H
BEGIN:VTIMEZONE
TZID:America/Chicago
BEGIN:DAYLIGHT
TZOFFSETFROM:-0600
TZOFFSETTO:-0500
TZNAME:CDT
DTSTART:20250309T080000
END:DAYLIGHT
BEGIN:STANDARD
TZOFFSETFROM:-0500
TZOFFSETTO:-0600
TZNAME:CST
DTSTART:20251102T070000
END:STANDARD
END:VTIMEZONE
BEGIN:VEVENT
DTSTART;TZID=America/Chicago:20250905T120000
DTEND;TZID=America/Chicago:20250905T170000
DTSTAMP:20260419T224439
CREATED:20240905T224227Z
LAST-MODIFIED:20250619T202443Z
UID:1614-1757073600-1757091600@greenvalleyfloyd.com
SUMMARY:HCI Construction
DESCRIPTION:12:30 Shotgun
URL:https://greenvalleyfloyd.com/event/hci-construction/
CATEGORIES:Green Valley
END:VEVENT
BEGIN:VEVENT
DTSTART;TZID=America/Chicago:20250908T080000
DTEND;TZID=America/Chicago:20250908T170000
DTSTAMP:20260419T224439
CREATED:20220413T200946Z
LAST-MODIFIED:20250620T165339Z
UID:1048-1757318400-1757350800@greenvalleyfloyd.com
SUMMARY:2025 Swanny Classic
DESCRIPTION:9:00 AM Shotgun Start
URL:https://greenvalleyfloyd.com/event/2022-swanny-classic/
CATEGORIES:Green Valley
END:VEVENT
BEGIN:VEVENT
DTSTART;TZID=America/Chicago:20250912T123000
DTEND;TZID=America/Chicago:20250912T193000
DTSTAMP:20260419T224439
CREATED:20230718T180347Z
LAST-MODIFIED:20250726T223902Z
UID:1316-1757680200-1757705400@greenvalleyfloyd.com
SUMMARY:Keller - Williams Outing
DESCRIPTION:12:30 Shotgun
URL:https://greenvalleyfloyd.com/event/keller-williams-outing/
CATEGORIES:Green Valley
END:VEVENT
BEGIN:VEVENT
DTSTART;VALUE=DATE:20250920
DTEND;VALUE=DATE:20250921
DTSTAMP:20260419T224439
CREATED:20210409T210853Z
LAST-MODIFIED:20241029T151109Z
UID:618-1758326400-1758412799@greenvalleyfloyd.com
SUMMARY:The 2025 Lewis & Clark Cup @ Two Rivers
DESCRIPTION:Two Rivers  holds The Cup \nMatches begin at 8:00 AM
URL:https://greenvalleyfloyd.com/event/the-2021-lewis-clark-cup-september-25-two-rivers/
CATEGORIES:Green Valley,Two Rivers
END:VEVENT
BEGIN:VEVENT
DTSTART;TZID=America/Chicago:20250926T130000
DTEND;TZID=America/Chicago:20250926T190000
DTSTAMP:20260419T224439
CREATED:20230517T195338Z
LAST-MODIFIED:20250415T000128Z
UID:1267-1758891600-1758913200@greenvalleyfloyd.com
SUMMARY:Pub 52 Golf Tournament
DESCRIPTION:1:00 Shotgun \nJustin Truhe 251-0969
URL:https://greenvalleyfloyd.com/event/pub-52-golf-tournament/
CATEGORIES:Green Valley
END:VEVENT
END:VCALENDAR